BEGIN:VCALENDAR
VERSION:2.0
PRODID:-//https://www.shada.com.au///NONSGML kigkonsult.se iCalcreator 2.10.15//
METHOD:PUBLISH
BEGIN:VEVENT
UID:20260424T095444MDT-9543TKjuBW@https://www.shada.com.au/
DTSTAMP:20260424T155444Z
DESCRIPTION:From 457 Visa to Permanent Residency&nbsp\;\nDoes the abolition
  and replacement of the 457 visa in March 2018 affect you?\nAllan Hornery\
 , Registered Migration Agent ( MARN:&nbsp\;0961304)&nbsp\; Mohammad Reza A
 zimi\, Registered Migration Agent &nbsp\;( MARN: 0958292 ) and Riaz Haffej
 ee \, Registered Migration agent (MARN: 1462200)&nbsp\; from Shada Migrati
 on Education Services will be presenting a free seminar on the recent chan
 ges to do with the 457 visa subclass.\nThe objective of this seminar is to
  advise the current holders of subclass 457 visa and sponsors/employers co
 ncerning the impact the changes will have on their future options to remai
 n in Australia.\nWe encourage you to attend this free seminar if you are a
  current holder of a 457 visa or an employer willing to sponsor a visa app
 licant.\nThe seminar is free.&nbsp\; https://www.shada.com.au/events/event
 /1-from-457-visa-to-permanent-residency
DTSTART:20170909T000000Z
DTEND:20170909T020000Z
LOCATION:Shada Seminar Centre in Parramatta ( Suite 71 Civic Arcade 48-50 G
 eorge Street\, Parramatta NSW 2150)
SUMMARY:From 457 Visa to Permanent Residency
URL:https://www.shada.com.au/events/event/1-from-457-visa-to-permanent-resi
 dency
END:VEVENT
BEGIN:VEVENT
UID:20260424T095444MDT-9546wz8EZu@https://www.shada.com.au/
DTSTAMP:20260424T155444Z
DESCRIPTION:&nbsp\;\nسمینار تخصصی مهاجرت پزشکان به استرالیا\nسمینار تخصصی '
 مهاجرت پزشکان به استرالیا ' در تاریخ 21 دی ماه 1396 ساعت 9 صبح در تهران در
  موسسه مهاجرتی و کاریابی بین المللی شادا برگزار خواهد شد. سخنرانان این سمی
 نار آقایان محمدرضا عظیمی و آلن هورنری ، مشاوران رسمی مهاجرت استرالیا هستند
 \nپروسه مهاجرت پزشکان عمومی به استرالیا پیچیده است و هدف این سمینار شرح گا
 م به گام این پروسه و خدماتی است که دفتر مهاجرت خدمات شادا می تواند در این 
 زمینه ارائه دهد ، برای آشنایی کلی با این پروسه می توانید به صفحه ویژه پزشک
 ان در این لینک بروید\nاین خدمات شامل برگزاری دوره های آموزشی برای امتحانات
  مربوطه و کمک به گرفتن ویزای توریستی به استرالیا برای طی کردن مراحل بعدی پ
 روسه، برگزاری دوره های آموزشی برای امتحان کلینکال در شهر ملبورن و یا سیدنی
  ، پیشنهاد شغلی در کلینیک یا بیمارستان در استرالیا و کمک به درخواست ویزا ک
 ار و اقامت دائم است\n.رشته پزشکی ، جزو مشاغل مورد نیاز استرالیاست و هر سال
 ه تعداد کثیری از پزشکان عمومی از سراسر دنیا به استرالیا مهاجرت می کنند\nبر
  اساس آماری که توسط اداره مهاجرت استرالیا منتشر شده، ظرفیت پذیرش پزشکان عم
 ومی در سال مالی 2018-2017 میلادی به تعداد 3495 نفر بوده است که تا ژانویه 2
 018 فقط 88 نفر برای ویزاهای مهارتی درخواست داده اند. باید در نظر داشت که ب
 رای ویزاهای مربوط به حمایت کارفرمایان سقفی وجود ندارد و این آمار نشان می د
 هد که استرالیا به شدت به پزشک عمومی نیاز دارد\n.کسانی که در تهران نیستند ن
 یز می توانند در سمینار شرکت کنند و می تواند از طریق اسکایپ این کار صورت بگ
 یرد . فقط نیاز است که یک اکانت اسکایپ باز کنند و برای ما شناسه کاربری اشان
  را بفرستند\nبرای شرکت در این سمینار می توانید از طریق همین صفحه ثبت نام ک
 نید \nبرای کسب اطلاعات بیشتر می توانید به موسسه مهاجرتی و کاریابی بین المل
 لی شادا در تهران تماس بگیرید آدرس و شماره تماس با موسسه در ایران در این لی
 نک است\n آدرس محل برگزاری سمینار: موسسه مهاجرتی و کاریابی بین المللی شادا:
  تهران، خیابان شریعتی، بالاتر از دوراهی قلهک، پلاک 1402، مجتمع تجاری اداری
  پارسین، طبقه دوم، واحد 18 تلفن 26409946-021 https://www.shada.com.au/even
 ts/event/2-general-practitioner-s-migrating-to-australia
DTSTART:20180110T220000Z
DTEND:20180111T003000Z
LOCATION:Shada International Recruitment Agency  (Unit 18\, 2nd Floor\, No 
 1402\, Parsin Business Complex\, Gholhak Intersection\,Shariati Street\,Te
 hran\,Iran)
SUMMARY:General Practitioner's Migrating to Australia
URL:https://www.shada.com.au/events/event/2-general-practitioner-s-migratin
 g-to-australia
END:VEVENT
BEGIN:VEVENT
UID:20260424T095444MDT-9550GDiU3G@https://www.shada.com.au/
DTSTAMP:20260424T155444Z
DESCRIPTION:&nbsp\;\nMCQ دوره آن لاین کلاسهای آماده سازی امتحان \nپزشکانی ک
 ه می خواهند به استرالیا مهاجرت کنند باید امتحانات متعددی را پشت سر بگذرانن
 د که منجمله امتحان MCQ است.&nbsp\;\nدفتر خدمات مهاجرت شادا با همکاری یک مو
 سسه معتبر آموزشی در استرالیا در نظر دارد دوره ای آن لاین را برای آماده ساز
 ی پزشکان برای شرکت در امتحان MCQ برگزار کند.\nاین دوره صرفاً به زبان انگلی
 سی خواهد بود و شرکت کنندگان باید از توانایی های خود در زبان انگلیسی مطمئن 
 باشند.\nدر این دوره که به مدت پنج هفته است، یکسری امتحانات آزمایشی مشابه ا
 متحان اصلی&nbsp\; برگزار می شود و به شرکت کنندگان&nbsp\; جزوات و یادداشت ه
 ای مطالعاتی ارائه خواهد شود که می توانند سوالهای مشابه ای&nbsp\; را که در 
 امتحان اصلی MCQ خواهد آمد تمرین کنند.\nکلاس به صورت آن لاین و از طریق ویدی
 و کنفرانس برگزار می شود و ارتباط به صورت دو طرفه است و نیاز به کامپیوتر مت
 صل به اینترنت، وب کم ، بلندگو و میکروفون دارید. شرکت کنندگان می توانند از 
 تبلت و یا موبایل دارای سیستم اندروید، IOS و یا ویندوز نیز استفاده کنند.&nb
 sp\;\nکلاسها به مدت زمان پنج هفته،&nbsp\; پنج روز در هفته و روزی 5 ساعت خو
 اهد بود و ممکن است با توجه به اختلاف ساعت ایران و استرالیا بتوان بخشی از ک
 لاسها را به مدت طولانی تر در روزهای پنجشنبه و جمعه برگزار کرد.\nهزینه شرکت
  در این دوره 2500 دلار استرالیاست.\nدر این دوره مباحث ذیل توسط مدرسان مختل
 ف به بحث گذاشته می شود:\n\nMedicine\nSurgery\nObstetrics &amp\; Gynaecolog
 y\nPsychiatry\nGeneral Practice\nMedical Legal\nEmergency\nPaediatrics\nMe
 dico Legal/ Ethical Issues\nEmergency and Biostatistics\nPopulation health
 \n\nتمامی مدرسان دوره ، پزشک هستند و&nbsp\; از اطلاعات کامل در زمینه ای که
  تدریس می کنند برخوردارند و از سیستم پزشکی استرالیا اطلاعات جامع دارند.&nb
 sp\;\n.چنانچه تمایل دارید در این دوره شرکت کنید می توانید از طریق همین صفح
 ه تمایل خود را برای شرکت در این دوره اظهار کنید و یا اگر نیاز به اطلاعات ب
 یشتر دارد با ما تماس بگیرید https://www.shada.com.au/events/event/3-online
 -mcq-preparation-course
DTSTART:20180831T140000Z
DTEND:20180901T222759Z
LOCATION:Shada Migration Services (70/48-50 George St\, Parramatta NSW 2150
 \, Australia)
SUMMARY:Online MCQ Preparation Course
URL:https://www.shada.com.au/events/event/3-online-mcq-preparation-course
END:VEVENT
END:VCALENDAR
